BEGIN:VCALENDAR
VERSION:2.0
PRODID:-//Happy Family Ranch - ECPv5.4.0.2//NONSGML v1.0//EN
CALSCALE:GREGORIAN
METHOD:PUBLISH
X-WR-CALNAME:Happy Family Ranch
X-ORIGINAL-URL:https://happyfamily-ranch.net
X-WR-CALDESC:Events for Happy Family Ranch
BEGIN:VTIMEZONE
TZID:UTC
BEGIN:STANDARD
TZOFFSETFROM:+0000
TZOFFSETTO:+0000
TZNAME:UTC
DTSTART:20240101T000000
END:STANDARD
END:VTIMEZONE
BEGIN:VEVENT
DTSTART;TZID=UTC:20241005T100000
DTEND;TZID=UTC:20241005T160000
DTSTAMP:20260425T154125
CREATED:20240909T132730Z
LAST-MODIFIED:20240909T132730Z
UID:15751-1728122400-1728144000@happyfamily-ranch.net
SUMMARY:Warrenton Fall Festival
DESCRIPTION:
URL:https://happyfamily-ranch.net/event/warrenton-fall-festival-2
LOCATION:Old Town Warrenton Fall Festival\, 21 Main St\, Warrenton\, VA\, 20186\, United States
CATEGORIES:Food Truck
END:VEVENT
END:VCALENDAR