BEGIN:VCALENDAR
VERSION:2.0
PRODID:-//Happy Family Ranch - ECPv5.4.0.2//NONSGML v1.0//EN
CALSCALE:GREGORIAN
METHOD:PUBLISH
X-WR-CALNAME:Happy Family Ranch
X-ORIGINAL-URL:https://happyfamily-ranch.net
X-WR-CALDESC:Events for Happy Family Ranch
BEGIN:VTIMEZONE
TZID:UTC
BEGIN:STANDARD
TZOFFSETFROM:+0000
TZOFFSETTO:+0000
TZNAME:UTC
DTSTART:20240101T000000
END:STANDARD
END:VTIMEZONE
BEGIN:VEVENT
DTSTART;TZID=UTC:20241019T090000
DTEND;TZID=UTC:20241019T160000
DTSTAMP:20260425T141947
CREATED:20240913T184515Z
LAST-MODIFIED:20240913T184515Z
UID:15825-1729328400-1729353600@happyfamily-ranch.net
SUMMARY:Upperville Horse Show
DESCRIPTION:
URL:https://happyfamily-ranch.net/event/upperville-horse-show-5
LOCATION:Upperville Colt and Horse Show\, 8300 John Mosby Hwy\, Upperville\, VA\, 20184\, United States
CATEGORIES:Food Truck
END:VEVENT
END:VCALENDAR