BEGIN:VCALENDAR
VERSION:2.0
PRODID:-//Happy Family Ranch - ECPv5.4.0.2//NONSGML v1.0//EN
CALSCALE:GREGORIAN
METHOD:PUBLISH
X-WR-CALNAME:Happy Family Ranch
X-ORIGINAL-URL:https://happyfamily-ranch.net
X-WR-CALDESC:Events for Happy Family Ranch
BEGIN:VTIMEZONE
TZID:UTC
BEGIN:STANDARD
TZOFFSETFROM:+0000
TZOFFSETTO:+0000
TZNAME:UTC
DTSTART:20240101T000000
END:STANDARD
END:VTIMEZONE
BEGIN:VEVENT
DTSTART;TZID=UTC:20240817T120000
DTEND;TZID=UTC:20240817T160000
DTSTAMP:20260425T140028
CREATED:20240816T193557Z
LAST-MODIFIED:20240816T193557Z
UID:15573-1723896000-1723910400@happyfamily-ranch.net
SUMMARY:The Winery at La Grange
DESCRIPTION:
URL:https://happyfamily-ranch.net/event/the-winery-at-la-grange-2
LOCATION:The Winery at La Grange\, 4970 Antioch Rd\, Haymarket\, VA\, 20169\, United States
CATEGORIES:Food Truck
END:VEVENT
END:VCALENDAR