BEGIN:VCALENDAR
VERSION:2.0
PRODID:-//Happy Family Ranch - ECPv5.4.0.2//NONSGML v1.0//EN
CALSCALE:GREGORIAN
METHOD:PUBLISH
X-WR-CALNAME:Happy Family Ranch
X-ORIGINAL-URL:https://happyfamily-ranch.net
X-WR-CALDESC:Events for Happy Family Ranch
BEGIN:VTIMEZONE
TZID:UTC
BEGIN:STANDARD
TZOFFSETFROM:+0000
TZOFFSETTO:+0000
TZNAME:UTC
DTSTART:20240101T000000
END:STANDARD
END:VTIMEZONE
BEGIN:VEVENT
DTSTART;TZID=UTC:20240615T120000
DTEND;TZID=UTC:20240615T190000
DTSTAMP:20260425T144210
CREATED:20240529T224943Z
LAST-MODIFIED:20240529T224943Z
UID:15534-1718452800-1718478000@happyfamily-ranch.net
SUMMARY:Taste of DMV
DESCRIPTION:
URL:https://happyfamily-ranch.net/event/taste-of-dmv
LOCATION:300 Pennsylvania Av NW\, 300 Pennsylvania Av NW\, Washington\, DC (DCA)\, United States
CATEGORIES:Food Truck
END:VEVENT
END:VCALENDAR