BEGIN:VCALENDAR
VERSION:2.0
PRODID:-//Happy Family Ranch - ECPv5.4.0.2//NONSGML v1.0//EN
CALSCALE:GREGORIAN
METHOD:PUBLISH
X-WR-CALNAME:Happy Family Ranch
X-ORIGINAL-URL:https://happyfamily-ranch.net
X-WR-CALDESC:Events for Happy Family Ranch
BEGIN:VTIMEZONE
TZID:UTC
BEGIN:STANDARD
TZOFFSETFROM:+0000
TZOFFSETTO:+0000
TZNAME:UTC
DTSTART:20240101T000000
END:STANDARD
END:VTIMEZONE
BEGIN:VEVENT
DTSTART;TZID=UTC:20240907T120000
DTEND;TZID=UTC:20240907T180000
DTSTAMP:20260425T165959
CREATED:20240906T191057Z
LAST-MODIFIED:20240906T205419Z
UID:15643-1725710400-1725732000@happyfamily-ranch.net
SUMMARY:Summer Series-Happy Family Ranch
DESCRIPTION:
URL:https://happyfamily-ranch.net/event/summer-series-happy-family-ranch
LOCATION:Happy Family Ranch\, 12507 Elk Run Church Rd\, Midland\, VA\, 22728\, United States
CATEGORIES:Food Truck
END:VEVENT
END:VCALENDAR