BEGIN:VCALENDAR
VERSION:2.0
PRODID:-//Happy Family Ranch - ECPv5.4.0.2//NONSGML v1.0//EN
CALSCALE:GREGORIAN
METHOD:PUBLISH
X-WR-CALNAME:Happy Family Ranch
X-ORIGINAL-URL:https://happyfamily-ranch.net
X-WR-CALDESC:Events for Happy Family Ranch
BEGIN:VTIMEZONE
TZID:UTC
BEGIN:STANDARD
TZOFFSETFROM:+0000
TZOFFSETTO:+0000
TZNAME:UTC
DTSTART:20240101T000000
END:STANDARD
END:VTIMEZONE
BEGIN:VEVENT
DTSTART;TZID=UTC:20240926T170000
DTEND;TZID=UTC:20240926T210000
DTSTAMP:20260425T154051
CREATED:20240906T214402Z
LAST-MODIFIED:20240906T214402Z
UID:15721-1727370000-1727384400@happyfamily-ranch.net
SUMMARY:Strangeways Brewery
DESCRIPTION:
URL:https://happyfamily-ranch.net/event/strangeways-brewery-5
LOCATION:Strangeways Brewery\, 350 Lansdowne Rd\, Fredericksburg\, VA\, 22401\, United States
CATEGORIES:Food Truck
END:VEVENT
END:VCALENDAR