BEGIN:VCALENDAR
VERSION:2.0
PRODID:-//Happy Family Ranch - ECPv5.4.0.2//NONSGML v1.0//EN
CALSCALE:GREGORIAN
METHOD:PUBLISH
X-WR-CALNAME:Happy Family Ranch
X-ORIGINAL-URL:https://happyfamily-ranch.net
X-WR-CALDESC:Events for Happy Family Ranch
BEGIN:VTIMEZONE
TZID:UTC
BEGIN:STANDARD
TZOFFSETFROM:+0000
TZOFFSETTO:+0000
TZNAME:UTC
DTSTART:20240101T000000
END:STANDARD
END:VTIMEZONE
BEGIN:VEVENT
DTSTART;TZID=UTC:20241004T110000
DTEND;TZID=UTC:20241004T133000
DTSTAMP:20260425T121031
CREATED:20240909T132617Z
LAST-MODIFIED:20240909T132617Z
UID:15748-1728039600-1728048600@happyfamily-ranch.net
SUMMARY:Smith Station Elementary School
DESCRIPTION:
URL:https://happyfamily-ranch.net/event/smith-station-elementary-school
LOCATION:Smith Station Elementary School\, 7320 Smith Station Rd\, Fredericksburg\, VA\, 22401\, United States
CATEGORIES:Food Truck
END:VEVENT
END:VCALENDAR