BEGIN:VCALENDAR
VERSION:2.0
PRODID:-//Happy Family Ranch - ECPv5.4.0.2//NONSGML v1.0//EN
CALSCALE:GREGORIAN
METHOD:PUBLISH
X-WR-CALNAME:Happy Family Ranch
X-ORIGINAL-URL:https://happyfamily-ranch.net
X-WR-CALDESC:Events for Happy Family Ranch
BEGIN:VTIMEZONE
TZID:UTC
BEGIN:STANDARD
TZOFFSETFROM:+0000
TZOFFSETTO:+0000
TZNAME:UTC
DTSTART:20240101T000000
END:STANDARD
END:VTIMEZONE
BEGIN:VEVENT
DTSTART;TZID=UTC:20241004T110000
DTEND;TZID=UTC:20241004T170000
DTSTAMP:20260425T134655
CREATED:20240909T133343Z
LAST-MODIFIED:20240909T133343Z
UID:15755-1728039600-1728061200@happyfamily-ranch.net
SUMMARY:Sheepdog Finals
DESCRIPTION:
URL:https://happyfamily-ranch.net/event/sheepdog-finals
LOCATION:Sheepdog Finals\, 336 Belle Grove Rd\, Midland\, VA\, 22645\, United States
CATEGORIES:Food Truck
END:VEVENT
END:VCALENDAR