BEGIN:VCALENDAR
VERSION:2.0
PRODID:-//Happy Family Ranch - ECPv5.4.0.2//NONSGML v1.0//EN
CALSCALE:GREGORIAN
METHOD:PUBLISH
X-WR-CALNAME:Happy Family Ranch
X-ORIGINAL-URL:https://happyfamily-ranch.net
X-WR-CALDESC:Events for Happy Family Ranch
BEGIN:VTIMEZONE
TZID:UTC
BEGIN:STANDARD
TZOFFSETFROM:+0000
TZOFFSETTO:+0000
TZNAME:UTC
DTSTART:20240101T000000
END:STANDARD
END:VTIMEZONE
BEGIN:VEVENT
DTSTART;TZID=UTC:20241019T150000
DTEND;TZID=UTC:20241019T190000
DTSTAMP:20260425T142110
CREATED:20240913T184252Z
LAST-MODIFIED:20240913T184252Z
UID:15823-1729350000-1729364400@happyfamily-ranch.net
SUMMARY:Remington Ghost in the Garden
DESCRIPTION:
URL:https://happyfamily-ranch.net/event/remington-ghost-in-the-garden
LOCATION:Remington Community Garden\, 150 W Bowen Street\, Remington\, VA\, 22734\, United States
CATEGORIES:Food Truck
END:VEVENT
END:VCALENDAR