BEGIN:VCALENDAR
VERSION:2.0
PRODID:-//Happy Family Ranch - ECPv5.4.0.2//NONSGML v1.0//EN
CALSCALE:GREGORIAN
METHOD:PUBLISH
X-WR-CALNAME:Happy Family Ranch
X-ORIGINAL-URL:https://happyfamily-ranch.net
X-WR-CALDESC:Events for Happy Family Ranch
BEGIN:VTIMEZONE
TZID:UTC
BEGIN:STANDARD
TZOFFSETFROM:+0000
TZOFFSETTO:+0000
TZNAME:UTC
DTSTART:20240101T000000
END:STANDARD
END:VTIMEZONE
BEGIN:VEVENT
DTSTART;TZID=UTC:20240918T180000
DTEND;TZID=UTC:20240918T210000
DTSTAMP:20260425T144203
CREATED:20240906T211744Z
LAST-MODIFIED:20240906T211744Z
UID:15686-1726682400-1726693200@happyfamily-ranch.net
SUMMARY:Reitano Vineyards
DESCRIPTION:
URL:https://happyfamily-ranch.net/event/reitano-vineyards-2
LOCATION:Reitano Vineyards\, 137 Lee Burke Rd\, Front Royal\, VA\, United States
CATEGORIES:Food Truck
END:VEVENT
END:VCALENDAR