BEGIN:VCALENDAR
VERSION:2.0
PRODID:-//Happy Family Ranch - ECPv5.4.0.2//NONSGML v1.0//EN
CALSCALE:GREGORIAN
METHOD:PUBLISH
X-WR-CALNAME:Happy Family Ranch
X-ORIGINAL-URL:https://happyfamily-ranch.net
X-WR-CALDESC:Events for Happy Family Ranch
BEGIN:VTIMEZONE
TZID:UTC
BEGIN:STANDARD
TZOFFSETFROM:+0000
TZOFFSETTO:+0000
TZNAME:UTC
DTSTART:20240101T000000
END:STANDARD
END:VTIMEZONE
BEGIN:VEVENT
DTSTART;TZID=UTC:20240617T160000
DTEND;TZID=UTC:20240617T170000
DTSTAMP:20260425T134507
CREATED:20240529T225204Z
LAST-MODIFIED:20240529T225204Z
UID:15539-1718640000-1718643600@happyfamily-ranch.net
SUMMARY:Private Event
DESCRIPTION:
URL:https://happyfamily-ranch.net/event/private-event-8
LOCATION:Private Event
CATEGORIES:Food Truck
END:VEVENT
END:VCALENDAR