BEGIN:VCALENDAR
VERSION:2.0
PRODID:-//Happy Family Ranch - ECPv5.4.0.2//NONSGML v1.0//EN
CALSCALE:GREGORIAN
METHOD:PUBLISH
X-WR-CALNAME:Happy Family Ranch
X-ORIGINAL-URL:https://happyfamily-ranch.net
X-WR-CALDESC:Events for Happy Family Ranch
BEGIN:VTIMEZONE
TZID:UTC
BEGIN:STANDARD
TZOFFSETFROM:+0000
TZOFFSETTO:+0000
TZNAME:UTC
DTSTART:20250101T000000
END:STANDARD
END:VTIMEZONE
BEGIN:VEVENT
DTSTART;TZID=UTC:20250323T120000
DTEND;TZID=UTC:20250323T200000
DTSTAMP:20260425T154841
CREATED:20250310T210417Z
LAST-MODIFIED:20250310T210417Z
UID:15949-1742731200-1742760000@happyfamily-ranch.net
SUMMARY:Old Bust Head Brewing Co.
DESCRIPTION:
URL:https://happyfamily-ranch.net/event/old-bust-head-brewing-co
LOCATION:Old Bust Head Brewing Co.\, 7134 Farm Station Road\, Vint Hill\, VA\, 20187\, United States
CATEGORIES:Food Truck
END:VEVENT
END:VCALENDAR