BEGIN:VCALENDAR
VERSION:2.0
PRODID:-//Happy Family Ranch - ECPv5.4.0.2//NONSGML v1.0//EN
CALSCALE:GREGORIAN
METHOD:PUBLISH
X-WR-CALNAME:Happy Family Ranch
X-ORIGINAL-URL:https://happyfamily-ranch.net
X-WR-CALDESC:Events for Happy Family Ranch
BEGIN:VTIMEZONE
TZID:UTC
BEGIN:STANDARD
TZOFFSETFROM:+0000
TZOFFSETTO:+0000
TZNAME:UTC
DTSTART:20240101T000000
END:STANDARD
END:VTIMEZONE
BEGIN:VEVENT
DTSTART;TZID=UTC:20240818T150000
DTEND;TZID=UTC:20240818T170000
DTSTAMP:20260425T201254
CREATED:20240822T211841Z
LAST-MODIFIED:20240822T211841Z
UID:15586-1723993200-1724000400@happyfamily-ranch.net
SUMMARY:National Sporting Library and Museum
DESCRIPTION:
URL:https://happyfamily-ranch.net/event/national-sporting-library-and-museum
LOCATION:National Sporting LIbrsry and museum\, 102 The Plains Rd\, Middleburg\, VA\, United States
CATEGORIES:Food Truck
END:VEVENT
END:VCALENDAR