BEGIN:VCALENDAR
VERSION:2.0
PRODID:-//Happy Family Ranch - ECPv5.4.0.2//NONSGML v1.0//EN
CALSCALE:GREGORIAN
METHOD:PUBLISH
X-WR-CALNAME:Happy Family Ranch
X-ORIGINAL-URL:https://happyfamily-ranch.net
X-WR-CALDESC:Events for Happy Family Ranch
BEGIN:VTIMEZONE
TZID:UTC
BEGIN:STANDARD
TZOFFSETFROM:+0000
TZOFFSETTO:+0000
TZNAME:UTC
DTSTART:20240101T000000
END:STANDARD
END:VTIMEZONE
BEGIN:VEVENT
DTSTART;TZID=UTC:20241011T110000
DTEND;TZID=UTC:20241011T170000
DTSTAMP:20260425T140635
CREATED:20240909T143406Z
LAST-MODIFIED:20240909T143406Z
UID:15788-1728644400-1728666000@happyfamily-ranch.net
SUMMARY:Morven Park International & Fall Horse
DESCRIPTION:
URL:https://happyfamily-ranch.net/event/morven-park-international-fall-horse
LOCATION:Morven Park Grounds\, 17339 Southern Planter Ln\, Leesburg\, VA\, 20176\, United States
CATEGORIES:Food Truck
END:VEVENT
END:VCALENDAR