BEGIN:VCALENDAR
VERSION:2.0
PRODID:-//Happy Family Ranch - ECPv5.4.0.2//NONSGML v1.0//EN
CALSCALE:GREGORIAN
METHOD:PUBLISH
X-WR-CALNAME:Happy Family Ranch
X-ORIGINAL-URL:https://happyfamily-ranch.net
X-WR-CALDESC:Events for Happy Family Ranch
BEGIN:VTIMEZONE
TZID:UTC
BEGIN:STANDARD
TZOFFSETFROM:+0000
TZOFFSETTO:+0000
TZNAME:UTC
DTSTART:20240101T000000
END:STANDARD
END:VTIMEZONE
BEGIN:VEVENT
DTSTART;TZID=UTC:20240917T110000
DTEND;TZID=UTC:20240917T140000
DTSTAMP:20260425T162606
CREATED:20240906T211534Z
LAST-MODIFIED:20240906T211534Z
UID:15681-1726570800-1726581600@happyfamily-ranch.net
SUMMARY:Laurel Ridge Community College
DESCRIPTION:
URL:https://happyfamily-ranch.net/event/laurel-ridge-community-college-11
LOCATION:Laurel Ridge Community College\, 6480 College St\, Warrenton\, VA\, 20187\, United States
CATEGORIES:Food Truck
END:VEVENT
END:VCALENDAR