BEGIN:VCALENDAR
VERSION:2.0
PRODID:-//Happy Family Ranch - ECPv5.4.0.2//NONSGML v1.0//EN
CALSCALE:GREGORIAN
METHOD:PUBLISH
X-WR-CALNAME:Happy Family Ranch
X-ORIGINAL-URL:https://happyfamily-ranch.net
X-WR-CALDESC:Events for Happy Family Ranch
BEGIN:VTIMEZONE
TZID:UTC
BEGIN:STANDARD
TZOFFSETFROM:+0000
TZOFFSETTO:+0000
TZNAME:UTC
DTSTART:20240101T000000
END:STANDARD
END:VTIMEZONE
BEGIN:VEVENT
DTSTART;TZID=UTC:20240928T110000
DTEND;TZID=UTC:20240928T160000
DTSTAMP:20260425T153101
CREATED:20240906T214723Z
LAST-MODIFIED:20240906T214723Z
UID:15729-1727521200-1727539200@happyfamily-ranch.net
SUMMARY:House of Mercy Festival
DESCRIPTION:
URL:https://happyfamily-ranch.net/event/house-of-mercy-festival
LOCATION:House of Mercy\, 8170 Flannery Ct\, Manassas\, VA\, 20109\, United States
CATEGORIES:Food Truck
END:VEVENT
END:VCALENDAR