BEGIN:VCALENDAR
VERSION:2.0
PRODID:-//Happy Family Ranch - ECPv5.4.0.2//NONSGML v1.0//EN
CALSCALE:GREGORIAN
METHOD:PUBLISH
X-WR-CALNAME:Happy Family Ranch
X-ORIGINAL-URL:https://happyfamily-ranch.net
X-WR-CALDESC:Events for Happy Family Ranch
BEGIN:VTIMEZONE
TZID:UTC
BEGIN:STANDARD
TZOFFSETFROM:+0000
TZOFFSETTO:+0000
TZNAME:UTC
DTSTART:20240101T000000
END:STANDARD
END:VTIMEZONE
BEGIN:VEVENT
DTSTART;TZID=UTC:20241012T080000
DTEND;TZID=UTC:20241012T160000
DTSTAMP:20260425T193244
CREATED:20240909T143449Z
LAST-MODIFIED:20240909T143449Z
UID:15791-1728720000-1728748800@happyfamily-ranch.net
SUMMARY:Homesteaders of America Conference
DESCRIPTION:
URL:https://happyfamily-ranch.net/event/homesteaders-of-america-conference-2
LOCATION:Homesteaders Conference\, Front Royal\, Front Royal\, VA\, United States
CATEGORIES:Food Truck
END:VEVENT
END:VCALENDAR