BEGIN:VCALENDAR
VERSION:2.0
PRODID:-//Happy Family Ranch - ECPv5.4.0.2//NONSGML v1.0//EN
CALSCALE:GREGORIAN
METHOD:PUBLISH
X-WR-CALNAME:Happy Family Ranch
X-ORIGINAL-URL:https://happyfamily-ranch.net
X-WR-CALDESC:Events for Happy Family Ranch
BEGIN:VTIMEZONE
TZID:UTC
BEGIN:STANDARD
TZOFFSETFROM:+0000
TZOFFSETTO:+0000
TZNAME:UTC
DTSTART:20240101T000000
END:STANDARD
END:VTIMEZONE
BEGIN:VEVENT
DTSTART;TZID=UTC:20240824T120000
DTEND;TZID=UTC:20240824T180000
DTSTAMP:20260425T184659
CREATED:20240822T212715Z
LAST-MODIFIED:20240822T212715Z
UID:15606-1724500800-1724522400@happyfamily-ranch.net
SUMMARY:Crab and Seafood Festival
DESCRIPTION:
URL:https://happyfamily-ranch.net/event/crab-and-seafood-festival
LOCATION:Crab and Seafood Festival\, 9220 Plank Rd\, Spotsylvania Courthouse\, VA\, United States
CATEGORIES:Food Truck
END:VEVENT
END:VCALENDAR