BEGIN:VCALENDAR
VERSION:2.0
PRODID:-//Happy Family Ranch - ECPv5.4.0.2//NONSGML v1.0//EN
CALSCALE:GREGORIAN
METHOD:PUBLISH
X-WR-CALNAME:Happy Family Ranch
X-ORIGINAL-URL:https://happyfamily-ranch.net
X-WR-CALDESC:Events for Happy Family Ranch
BEGIN:VTIMEZONE
TZID:UTC
BEGIN:STANDARD
TZOFFSETFROM:+0000
TZOFFSETTO:+0000
TZNAME:UTC
DTSTART:20240101T000000
END:STANDARD
END:VTIMEZONE
BEGIN:VEVENT
DTSTART;TZID=UTC:20240824T100000
DTEND;TZID=UTC:20240824T180000
DTSTAMP:20260425T184033
CREATED:20240822T212523Z
LAST-MODIFIED:20240822T212523Z
UID:15603-1724493600-1724522400@happyfamily-ranch.net
SUMMARY:Belle Grove Wine Festival
DESCRIPTION:
URL:https://happyfamily-ranch.net/event/belle-grove-wine-festival
LOCATION:Belle Grove Wine Festival\, 336 Belle Grove Rd\, Middletown\, VA\, United States
CATEGORIES:Food Truck
END:VEVENT
END:VCALENDAR