BEGIN:VCALENDAR
VERSION:2.0
PRODID:-//Happy Family Ranch - ECPv5.4.0.2//NONSGML v1.0//EN
CALSCALE:GREGORIAN
METHOD:PUBLISH
X-WR-CALNAME:Happy Family Ranch
X-ORIGINAL-URL:https://happyfamily-ranch.net
X-WR-CALDESC:Events for Happy Family Ranch
BEGIN:VTIMEZONE
TZID:UTC
BEGIN:STANDARD
TZOFFSETFROM:+0000
TZOFFSETTO:+0000
TZNAME:UTC
DTSTART:20240101T000000
END:STANDARD
END:VTIMEZONE
BEGIN:VEVENT
DTSTART;TZID=UTC:20240922T100000
DTEND;TZID=UTC:20240922T140000
DTSTAMP:20260425T154252
CREATED:20240906T213641Z
LAST-MODIFIED:20240906T213641Z
UID:15704-1726999200-1727013600@happyfamily-ranch.net
SUMMARY:Archwood Green Barns Farmers Market
DESCRIPTION:
URL:https://happyfamily-ranch.net/event/archwood-green-barns-farmers-market-3
LOCATION:Archwood Green Barns Farmers Market\, 4559 Old Tavern Rd\, The Plains\, VA\, United States
CATEGORIES:Food Truck
END:VEVENT
END:VCALENDAR