BEGIN:VCALENDAR
VERSION:2.0
PRODID:-//Happy Family Ranch - ECPv5.4.0.2//NONSGML v1.0//EN
CALSCALE:GREGORIAN
METHOD:PUBLISH
X-WR-CALNAME:Happy Family Ranch
X-ORIGINAL-URL:https://happyfamily-ranch.net
X-WR-CALDESC:Events for Happy Family Ranch
BEGIN:VTIMEZONE
TZID:UTC
BEGIN:STANDARD
TZOFFSETFROM:+0000
TZOFFSETTO:+0000
TZNAME:UTC
DTSTART:20240101T000000
END:STANDARD
END:VTIMEZONE
BEGIN:VEVENT
DTSTART;TZID=UTC:20240616T110000
DTEND;TZID=UTC:20240616T190000
DTSTAMP:20260425T144125
CREATED:20240529T225054Z
LAST-MODIFIED:20240529T225054Z
UID:15537-1718535600-1718564400@happyfamily-ranch.net
SUMMARY:4 Js Farm Brewery
DESCRIPTION:
URL:https://happyfamily-ranch.net/event/4-js-farm-brewery-3
LOCATION:4 Js Brewery\, 7595 Keith Rd\, Warrenton\, VA\, 20186\, United States
CATEGORIES:Food Truck
END:VEVENT
END:VCALENDAR